BEGIN:VCALENDAR
VERSION:2.0
PRODID:-//ChamberMaster//Event Calendar 2.0//EN
METHOD:PUBLISH
X-PUBLISHED-TTL:P3D
REFRESH-INTERVAL:P3D
CALSCALE:GREGORIAN
BEGIN:VEVENT
DTSTART;VALUE=DATE:20241128
DTEND;VALUE=DATE:20241130
TRANSP:TRANSPARENT
X-MICROSOFT-CDO-ALLDAYEVENT:TRUE
SUMMARY:Thanksgiving Holiday Closure
DESCRIPTION:Chamber & Dept. of Licensing closed\n\nThanksgiving\, 11/28 and 11/29\n\nOPEN Saturday\, Nov. 30.\, 2024 - 9am-1pm\n\n\n\nHappy Holiday!
X-ALT-DESC;FMTTYPE=text/html:Chamber &amp\; Dept. of Licensing closed<br />\nThanksgiving\, 11/28 and 11/29<br />\nOPEN Saturday\, Nov. 30.\, 2024 - 9am-1pm<br />\n<br />\nHappy Holiday!
LOCATION:
UID:e.367.10121
SEQUENCE:3
DTSTAMP:20260419T214540Z
URL:http://members.northmasonchamber.com/events/details/thanksgiving-holiday-closure-10121
END:VEVENT

END:VCALENDAR
