BEGIN:VCALENDAR
VERSION:2.0
PRODID:-//ChamberMaster//Event Calendar 2.0//EN
METHOD:PUBLISH
X-PUBLISHED-TTL:P3D
REFRESH-INTERVAL:P3D
CALSCALE:GREGORIAN
BEGIN:VEVENT
DTSTART:20250504T000000Z
DTEND:20250504T040000Z
X-MICROSOFT-CDO-ALLDAYEVENT:FALSE
SUMMARY:Sails 'N Tails
DESCRIPTION:Join us for an unforgettable evening at Sails N Tails\, the Humane Society of Mason County's premier annual Gala\, Dinner\, and Auction! This elegant event will be held at the Alderbrook Resort & Spa in Union\, WA\, where guests will enjoy a stunning waterfront setting\, a gourmet dinner\, exciting auction items\, and the chance to make a lasting impact on the lives of animals in need.\n\nYour attendance and support help fund vital rescue\, adoption\, and medical care programs for pets in our community. Whether you join us for the evening\, purchase a sponsorship\, or donate an auction item\, every contribution makes a difference!
X-ALT-DESC;FMTTYPE=text/html:<div class="xdj266r x11i5rnm xat24cr x1mh8g0r x1vvkbs" style="margin: 0px\; overflow-wrap: break-word\; font-family: &quot\;Segoe UI Historic&quot\;\, &quot\;Segoe UI&quot\;\, Helvetica\, Arial\, sans-serif\; color: rgb(8\, 8\, 9)\; font-size: 15px\;">Join us for an unforgettable evening at Sails N Tails\, the Humane Society of Mason County&rsquo\;s premier annual Gala\, Dinner\, and Auction! This elegant event will be held at the Alderbrook Resort &amp\; Spa in Union\, WA\, where guests will enjoy a stunning waterfront setting\, a gourmet dinner\, exciting auction items\, and the chance to make a lasting impact on the lives of animals in need.</div>\n\n<div class="x11i5rnm xat24cr x1mh8g0r x1vvkbs xtlvy1s" style="margin: 0.5em 0px 0px\; overflow-wrap: break-word\; font-family: &quot\;Segoe UI Historic&quot\;\, &quot\;Segoe UI&quot\;\, Helvetica\, Arial\, sans-serif\; color: rgb(8\, 8\, 9)\; font-size: 15px\;">Your attendance and support help fund vital rescue\, adoption\, and medical care programs for pets in our community. Whether you join us for the evening\, purchase a sponsorship\, or donate an auction item\, every contribution makes a difference!</div>\n\n<div class="x11i5rnm xat24cr x1mh8g0r x1vvkbs xtlvy1s" style="margin: 0.5em 0px 0px\; overflow-wrap: break-word\; font-family: &quot\;Segoe UI Historic&quot\;\, &quot\;Segoe UI&quot\;\, Helvetica\, Arial\, sans-serif\; color: rgb(8\, 8\, 9)\; font-size: 15px\;"><br class="html-br" />\n&nbsp\;</div>\n
LOCATION:Location: Alderbrook Resort & Spa 10 E Alderbrook Dr\, Union\, WA 98592
UID:e.367.10134
SEQUENCE:3
DTSTAMP:20260420T083930Z
URL:http://members.northmasonchamber.com/events/details/sails-n-tails-10134
END:VEVENT

END:VCALENDAR
