BEGIN:VCALENDAR
VERSION:2.0
PRODID:-//ChamberMaster//Event Calendar 2.0//EN
METHOD:PUBLISH
X-PUBLISHED-TTL:P3D
REFRESH-INTERVAL:P3D
CALSCALE:GREGORIAN
BEGIN:VEVENT
DTSTART:20240613T070500Z
DTEND:20240613T211500Z
X-MICROSOFT-CDO-ALLDAYEVENT:FALSE
SUMMARY:POP IN!! at Renny Ray's BBQ in Allyn
DESCRIPTION:It's time to ...\n\n"POP IN"\n\nfor taste testing at\n\nRenny Ray's BBQ in Allyn\n\n12:05 - 2:15pm\n\n\n\nWhat's a POP IN?\n\nIt's a special invitation for our Chamber Members to visit one of our fellow member businesses during the business day. We recognize that not everyone can get away to attend events\, so POP IN's were created to bring the members to YOU!\n\n\n\nAbout Renny Ray's BBQ\n\nWe're located in the parking lot of Peace\, Love & Donuts in Allyn\, WA directly across from the fire station. We're open Fridays & Saturdays from 9:30am until 6pm or we sell out (whichever comes first). We are available for catering\, but we do require at least a week in advance notification. Please call (360) 205-5956 or email us rennyraybbq@gmail.com with questions or for information.\n\n \n\n(No need to register\, but we appreciate it if you do!)
X-ALT-DESC;FMTTYPE=text/html:<div style="text-align: center\;"><span style="font-family:comic sans ms\;"><span style="font-size:16px\;">It&#39\;s time to ...<br />\n<span style="font-size:22px\;"><span style="font-size:26px\;"><strong>&quot\;POP IN&quot\;</strong></span><br />\n<span style="font-size:18px\;">for taste testing at</span></span><br />\n<span style="font-size:18px\;">Renny Ray&#39\;s BBQ in Allyn<br />\n12:05 - 2:15pm</span><br />\n<br />\n<strong>What&#39\;s a POP IN?</strong><br />\nIt&#39\;s a special invitation for our Chamber Members to visit one of our fellow member businesses during the business day. We recognize that not everyone can get away to attend events\, so POP IN&#39\;s were created to bring the members to YOU!<br />\n<br />\n<strong><span style="color:#1C1E21\;">About Renny Ray&#39\;s BBQ</span></strong><br />\n<em><span style="color:#1C1E21\;">We&#39\;re located in the parking lot of Peace\, Love &amp\; Donuts in Allyn\, WA directly across from the fire station. We&#39\;re open Fridays &amp\; Saturdays from 9:30am until 6pm or we sell out (whichever comes first). We are available for catering\, but we do require at least a week in advance notification. Please call (360) 205-5956 or email us rennyraybbq@gmail.com with questions or for information.</span></em></span><br />\n&nbsp\;</span><br />\n<strong>(No need to register\, but we appreciate it if you do!)</strong></div>\n
LOCATION:Renny Ray's BBQ 18350 E State Rte 3 Allyn\, WA 98524
UID:e.367.10093
SEQUENCE:3
DTSTAMP:20260419T144431Z
URL:http://members.northmasonchamber.com/events/details/pop-in-at-renny-ray-s-bbq-in-allyn-10093
END:VEVENT

END:VCALENDAR
