BEGIN:VCALENDAR
VERSION:2.0
PRODID:-//ChamberMaster//Event Calendar 2.0//EN
METHOD:PUBLISH
X-PUBLISHED-TTL:P3D
REFRESH-INTERVAL:P3D
CALSCALE:GREGORIAN
BEGIN:VEVENT
DTSTART;VALUE=DATE:20201222
DTEND;VALUE=DATE:20210105
TRANSP:TRANSPARENT
X-MICROSOFT-CDO-ALLDAYEVENT:TRUE
SUMMARY:Offices Closed -Chamber & Belfair Licensing Winter Break
DESCRIPTION:
X-ALT-DESC;FMTTYPE=text/html:
LOCATION:
UID:e.367.9649
SEQUENCE:3
DTSTAMP:20260423T192120Z
URL:http://members.northmasonchamber.com/events/details/offices-closed-chamber-belfair-licensing-winter-break-9649
END:VEVENT

END:VCALENDAR
