BEGIN:VCALENDAR
VERSION:2.0
PRODID:-//ChamberMaster//Event Calendar 2.0//EN
METHOD:PUBLISH
X-PUBLISHED-TTL:P3D
REFRESH-INTERVAL:P3D
CALSCALE:GREGORIAN
BEGIN:VEVENT
DTSTART:20260228T020000Z
DTEND:20260228T060000Z
X-MICROSOFT-CDO-ALLDAYEVENT:FALSE
SUMMARY:North Mason Annual Awards Gala
DESCRIPTION:Step right up! A vintage circus is headed your way!\n\n\n\nJoin us for an unforgettable evening of vintage charm\, themed attire\, and spirited celebration. Guests are encouraged to dress in circus-inspired style think steampunk\, Mardi Gras flair\, speakeasy/roaring '20s\, or classic black tie. Attending off-theme is always welcome\, but you might regret not joining the fun! Don't forget to compete for Best Dressed.\n\nThe evening will feature:\n\n\n\n-Appetizer social hour with circus-themed games\, raffles & silent auction\n\n-3 Course plated dinner featuring exquisite PNW offerings\n\n-Lively program filled with entertainment and our annual awards ceremony\n\n-Interactive sponsorships featuring fun member-focused commercials and special announcements (sponsorship opportunities to be announced soon)\n\n-Cooper Studios professional photo booth\n\n\n\nTickets are $200 per person - if you buy your ticket before our Jan 20 deadline\, members will receive a $25 discount.\n\nNon-Member Tickets are $250.
X-ALT-DESC;FMTTYPE=text/html:<em>Step right up! A vintage circus is headed your way!</em><br />\n<br />\nJoin us for an unforgettable evening of vintage charm\, themed attire\, and spirited celebration. Guests are encouraged to dress in circus-inspired style&mdash\;think steampunk\, Mardi Gras flair\, speakeasy/roaring &rsquo\;20s\, or classic black tie. Attending off-theme is always welcome\, but you might regret not joining the fun! Don&rsquo\;t forget to compete for Best Dressed.<br />\nThe evening will feature:<br />\n<br />\n-Appetizer social hour with circus-themed games\, raffles &amp\; silent auction<br />\n-3 Course plated dinner featuring exquisite PNW offerings<br />\n-Lively program filled with entertainment and our annual awards ceremony<br />\n-Interactive sponsorships featuring fun member-focused commercials and special announcements (sponsorship opportunities to be announced soon)<br />\n-Cooper Studios professional photo booth<br />\n<br />\nTickets are $200 per person - <strong>if you buy your ticket before our Jan 20 deadline\, members will receive a $25 discount</strong>.<br />\nNon-Member Tickets are $250.&nbsp\;
LOCATION:Alderbrook Resort & Spa
UID:e.367.10171
SEQUENCE:3
DTSTAMP:20260419T131821Z
URL:http://members.northmasonchamber.com/events/details/north-mason-annual-awards-gala-10171
END:VEVENT

END:VCALENDAR
