BEGIN:VCALENDAR
VERSION:2.0
PRODID:-//ChamberMaster//Event Calendar 2.0//EN
METHOD:PUBLISH
X-PUBLISHED-TTL:P3D
REFRESH-INTERVAL:P3D
CALSCALE:GREGORIAN
BEGIN:VEVENT
DTSTART:20130227T193000Z
DTEND:20130227T210000Z
X-MICROSOFT-CDO-ALLDAYEVENT:FALSE
SUMMARY:Monthly Lunch
DESCRIPTION:Join us for our monthly membership lunch. Network time from 11:30 till noon\, then a program till 1 PM.\n\n\n\nThis month's program\, American Red Cross. Karen McKay Bevers.\n\n\n\nKaren McKay Bevers has been the West Sound Director for American Red Cross since Sept. 2011\, after serving on the West Sound Red Cross Leadership Council for several years.
X-ALT-DESC;FMTTYPE=text/html:Join us for our monthly membership lunch. Network time from 11:30 till noon\, then a program till 1 PM.<br />\n<br />\nThis month&#39\;s program\, American Red Cross. Karen McKay Bevers.<br />\n<br />\n<span style="color:#1f497d\;">Karen McKay Bevers has been the West Sound Director for American Red Cross since Sept. 2011\, after serving on the West Sound Red Cross Leadership Council for several years.</span>
LOCATION:Theler Community Center in Belfair\, on Hiway 3 across from Belfair Elementary School.
UID:e.367.577
SEQUENCE:3
DTSTAMP:20260420T084205Z
URL:http://members.northmasonchamber.com/events/details/monthly-lunch-02-27-2013-577
END:VEVENT

END:VCALENDAR
