BEGIN:VCALENDAR
VERSION:2.0
PRODID:-//ChamberMaster//Event Calendar 2.0//EN
METHOD:PUBLISH
X-PUBLISHED-TTL:P3D
REFRESH-INTERVAL:P3D
CALSCALE:GREGORIAN
BEGIN:VEVENT
DTSTART:20240202T190000Z
DTEND:20240202T220000Z
X-MICROSOFT-CDO-ALLDAYEVENT:FALSE
SUMMARY:Mason County Sheriff Belfair
DESCRIPTION:Join us in celebrating the grand opening of our new North Precinct location in Belfair! The MCSO is excited to host this special event with NMRF staff\, County Commissioners\, and the North Mason Chamber of Commerce for a ribbon-cutting ceremony. Hear from all three Mason County Commissioners\, and witness the unveiling of our newly donated Command vehicle by Charlie's Vision. Enjoy music\, food\, and the vibrant community spirit as we mark this milestone together.\n\n\n\nFriday\, Feb 2nd 2023 11am-2PM\n\n460 NE Old Belfair Hwy\n\nBelfair\, WA 98528
X-ALT-DESC;FMTTYPE=text/html:<div class="xdj266r x11i5rnm xat24cr x1mh8g0r x1vvkbs x126k92a" style="margin: 0px\; overflow-wrap: break-word\; white-space-collapse: preserve\; font-family: &quot\;Segoe UI Historic&quot\;\, &quot\;Segoe UI&quot\;\, Helvetica\, Arial\, sans-serif\; color: rgb(5\, 5\, 5)\; font-size: 15px\; background-color: rgb(255\, 255\, 255)\;">\n<div dir="auto" style="font-family: inherit\;">Join us in celebrating the grand opening of our new North Precinct location in Belfair! The MCSO is excited to host this special event with NMRF staff\, County Commissioners\, and the North Mason Chamber of Commerce for a ribbon-cutting ceremony. Hear from all three Mason County Commissioners\, and witness the unveiling of our newly donated Command vehicle by Charlie&rsquo\;s Vision. Enjoy music\, food\, and the vibrant community spirit as we mark this milestone together.</div>\n</div>\n\n<div class="x11i5rnm xat24cr x1mh8g0r x1vvkbs xtlvy1s x126k92a" style="margin: 0.5em 0px 0px\; overflow-wrap: break-word\; white-space-collapse: preserve\; font-family: &quot\;Segoe UI Historic&quot\;\, &quot\;Segoe UI&quot\;\, Helvetica\, Arial\, sans-serif\; color: rgb(5\, 5\, 5)\; font-size: 15px\; background-color: rgb(255\, 255\, 255)\;">\n<div dir="auto" style="font-family: inherit\;">Friday\, Feb 2nd 2023 11am-2PM</div>\n\n<div dir="auto" style="font-family: inherit\;">460 NE Old Belfair Hwy</div>\n\n<div dir="auto" style="font-family: inherit\;">Belfair\, WA 98528</div>\n</div>\n
LOCATION:
UID:e.367.10077
SEQUENCE:3
DTSTAMP:20260421T111004Z
URL:http://members.northmasonchamber.com/events/details/mason-county-sheriff-belfair-10077
END:VEVENT

END:VCALENDAR
