BEGIN:VCALENDAR
VERSION:2.0
PRODID:-//ChamberMaster//Event Calendar 2.0//EN
METHOD:PUBLISH
X-PUBLISHED-TTL:P3D
REFRESH-INTERVAL:P3D
CALSCALE:GREGORIAN
BEGIN:VEVENT
DTSTART:20250405T160000Z
DTEND:20250405T180000Z
X-MICROSOFT-CDO-ALLDAYEVENT:FALSE
SUMMARY:Help! We need 3 more volunteers tomorrow!!
DESCRIPTION:Help please! We need 3 more VOLUNTEERS!!  :) Please\n\nIt's time for our Hwy 3 Clean-Up with the North Mason Kiwanis\n\nWe are looking for 6 people to help out -- Thank you!\n\n***Your RSVP is much appreciated***\n\nWe clean-up Hwy 3... from 106 to the Tressel at the North end of Belfair\, a little over 3 miles\, mostly sidewalks. \n\n\n\nWe provide the pick-up gear\, including fashionable orange vests!\n\nBad weather?  We have a back-up date -- Saturday\, April 12
X-ALT-DESC;FMTTYPE=text/html:<p style="text-align: center\;"><span style="font-family:verdana\;"><strong><span style="font-size:18px\;">Help please! We need 3 more VOLUNTEERS!!&nbsp\; :) Please</span></strong><br />\n<span style="font-size:16px\;">It&#39\;s time for our Hwy 3 Clean-Up with the North Mason Kiwanis<br />\nWe are looking for 6 people to help out -- Thank you!</span><br />\n<strong>***Your RSVP&nbsp\;is much appreciated***</strong></span></p>\n\n<h2 style="font-style: italic\; text-align: center\;">We clean-up Hwy 3... from 106 to the Tressel at the North end of Belfair\, a little over 3 miles\, mostly sidewalks.<span style="font-size:16px\;"><span style="font-family:calibri\,sans-serif\;">&nbsp\;</span></span><br />\n<br />\n<span style="font-size: 14px\; font-family: verdana\;">We provide the pick-up gear\, including fashionable orange vests!</span></h2>\n\n<p style="text-align: center\;"><span style="font-family:verdana\;"><span style="font-size:14px\;">Bad weather?&nbsp\; We have a back-up date -- Saturday\, April 12</span></span></p>\n
LOCATION:Meet at Chamber Office 30 NE Romance Hill Rd. Belfair
UID:e.367.10133
SEQUENCE:3
DTSTAMP:20260420T101651Z
URL:http://members.northmasonchamber.com/events/details/help-we-need-3-more-volunteers-tomorrow-10133
END:VEVENT

END:VCALENDAR
