BEGIN:VCALENDAR
VERSION:2.0
PRODID:-//ChamberMaster//Event Calendar 2.0//EN
METHOD:PUBLISH
X-PUBLISHED-TTL:P3D
REFRESH-INTERVAL:P3D
CALSCALE:GREGORIAN
BEGIN:VEVENT
DTSTART:20240616T020000Z
DTEND:20240616T040000Z
X-MICROSOFT-CDO-ALLDAYEVENT:FALSE
SUMMARY:Great Bend Lip Sync Battle
DESCRIPTION:Great Bend Lip Sync Battle\n\nBrought to you by ... Great Bend Choral Program\n\nGreat Bend Center for Music | We Make Music That Builds Community (greatbendmusic.org)\n\nMore info coming ...
X-ALT-DESC;FMTTYPE=text/html:Great Bend Lip Sync Battle<br />\nBrought to you by ... Great Bend Choral Program<br />\n<a href="https://greatbendmusic.org/">Great Bend Center for Music | We Make Music That Builds Community (greatbendmusic.org)</a><br />\nMore info coming ...<br />\n<br />\n&nbsp\;
LOCATION:Salmon Center Barn Belfair
UID:e.367.10087
SEQUENCE:3
DTSTAMP:20260419T143943Z
URL:http://members.northmasonchamber.com/events/details/great-bend-lip-sync-battle-10087
END:VEVENT

END:VCALENDAR
