BEGIN:VCALENDAR
VERSION:2.0
PRODID:-//ChamberMaster//Event Calendar 2.0//EN
METHOD:PUBLISH
X-PUBLISHED-TTL:P3D
REFRESH-INTERVAL:P3D
CALSCALE:GREGORIAN
BEGIN:VEVENT
DTSTART:20250423T000000Z
DTEND:20250423T020000Z
X-MICROSOFT-CDO-ALLDAYEVENT:FALSE
SUMMARY:Dalby Waterwheel Reception
DESCRIPTION:Join us as we take over Hood Canale to honor Larry DeForrest while enjoying food\, beverages\, live music by Caliope\, cake and Club announcements. Take a peek at the students finishing their Dalby Waterwheel paintings\, learn more about the Waterwheel's rich history and get a tour!
X-ALT-DESC;FMTTYPE=text/html:<div class="jAckT9" style="background-image: initial\; background-position: initial\; background-size: initial\; background-repeat: initial\; background-attachment: initial\; background-origin: initial\; background-clip: initial\; border: 0px\; margin: 18px 0px 0px\; outline: 0px\; padding: 0px\; vertical-align: baseline\; display: var(--descriptionVisibility)\; font-family: Arial\, Helvetica\, sans-serif\; font-size: 10px\; text-align: center\;">\n<p class="W0S903 gUQoiT eR02y5" data-hook="event-description" style="background-image: initial\; background-position: initial\; background-size: initial\; background-repeat: initial\; background-attachment: initial\; background-origin: initial\; background-clip: initial\; border: 0px\; margin: 0px\; outline: 0px\; padding: 0px\; vertical-align: baseline\; text-decoration: var(--descriptionFontV2-text-decoration)\; color: rgb(var(--descriptionColor))\; display: inline-block\; max-width: 560px\; white-space-collapse: preserve-breaks\; line-height: 1.5em !important\;"><span style="font-size:14px\;"><span style="font-family:times new roman\;">Join us as we take over Hood Canale to honor Larry DeForrest while enjoying food\, beverages\, live music by Caliope\, cake and Club announcements. Take a peek at the students finishing their Dalby Waterwheel paintings\, learn more about the Waterwheel&#39\;s rich history and get a tour!</span></span></p>\n</div>\n\n<div>\n<div class="jAckT9" style="background-image: initial\; background-position: initial\; background-size: initial\; background-repeat: initial\; background-attachment: initial\; background-origin: initial\; background-clip: initial\; border: 0px\; margin: 18px 0px 0px\; outline: 0px\; padding: 0px\; vertical-align: baseline\; display: var(--descriptionVisibility)\; font-family: Arial\, Helvetica\, sans-serif\; font-size: 10px\; text-align: center\;">\n<p class="W0S903 gUQoiT eR02y5" data-hook="event-description" style="background-image: initial\; background-position: initial\; background-size: initial\; background-repeat: initial\; background-attachment: initial\; background-origin: initial\; background-clip: initial\; border: 0px\; margin: 0px\; outline: 0px\; padding: 0px\; vertical-align: baseline\; text-decoration: var(--descriptionFontV2-text-decoration)\; color: rgb(var(--descriptionColor))\; display: inline-block\; max-width: 560px\; white-space-collapse: preserve-breaks\; line-height: 1.5em !important\;">&nbsp\;</p>\n</div>\n</div>\n
LOCATION:Hood Canale (located inside the Cameo Boutique building) 6871 E SR 106\, Union\, WA 98592
UID:e.367.10138
SEQUENCE:3
DTSTAMP:20260422T090748Z
URL:http://members.northmasonchamber.com/events/details/dalby-waterwheel-reception-10138
END:VEVENT

END:VCALENDAR
