BEGIN:VCALENDAR
VERSION:2.0
PRODID:-//ChamberMaster//Event Calendar 2.0//EN
METHOD:PUBLISH
X-PUBLISHED-TTL:P3D
REFRESH-INTERVAL:P3D
CALSCALE:GREGORIAN
BEGIN:VEVENT
DTSTART:20250422T230000Z
DTEND:20250423T003000Z
X-MICROSOFT-CDO-ALLDAYEVENT:FALSE
SUMMARY:Dalby Waterwheel Art Class
DESCRIPTION:Paint our beloved historic Dalby Waterwheel with PNW Art by BriAnne. 4:00PM Class Begins / Ends at 5:30PM\n\n\n\nLIMITED TICKETS: 15 max participants
X-ALT-DESC;FMTTYPE=text/html:<span style="font-family: avenir-lt-w01_35-light1475496\, sans-serif\; font-size: 14px\;">Paint our beloved historic Dalby Waterwheel with PNW Art by BriAnne. 4:00PM Class Begins / Ends at 5:30PM<br />\n<br />\nLIMITED TICKETS: 15 max participants&nbsp\;</span>
LOCATION:Hood Canale (tent/outdoor space) 6871 E SR 106\, Union\, WA 98592 In Cameo Boutique's Building (but next door to the shop)
UID:e.367.10137
SEQUENCE:3
DTSTAMP:20260420T101650Z
URL:http://members.northmasonchamber.com/events/details/dalby-waterwheel-art-class-10137
END:VEVENT

END:VCALENDAR
