BEGIN:VCALENDAR
VERSION:2.0
PRODID:-//ChamberMaster//Event Calendar 2.0//EN
METHOD:PUBLISH
X-PUBLISHED-TTL:P3D
REFRESH-INTERVAL:P3D
CALSCALE:GREGORIAN
BEGIN:VEVENT
DTSTART:20240418T140000Z
DTEND:20240418T173000Z
X-MICROSOFT-CDO-ALLDAYEVENT:FALSE
SUMMARY:Career Fair at North Mason High School
DESCRIPTION:The North Mason Chamber Education Committee is inviting local businesses and others to participate in the 4th Annual Career Fair for North Mason High School students. Businesses\, colleges\, trade schools\, armed forces\, and other career path organizations are invited to setup a booth and interact with the future work force. Event registration and school district background checks are required.
X-ALT-DESC;FMTTYPE=text/html:The North Mason Chamber Education Committee is inviting local businesses and others to participate in the 4th Annual Career Fair for North Mason High School students. Businesses\, colleges\, trade schools\, armed forces\, and other career path organizations are invited to setup a booth and interact with the future work force. Event registration and school district background checks are required.&nbsp\;
LOCATION:150 E North Mason School Rd Belfair WA 98528
UID:e.367.10081
SEQUENCE:3
DTSTAMP:20260423T105815Z
URL:http://members.northmasonchamber.com/events/details/career-fair-at-north-mason-high-school-10081
END:VEVENT

END:VCALENDAR
