BEGIN:VCALENDAR
VERSION:2.0
PRODID:-//ChamberMaster//Event Calendar 2.0//EN
METHOD:PUBLISH
X-PUBLISHED-TTL:P3D
REFRESH-INTERVAL:P3D
CALSCALE:GREGORIAN
BEGIN:VEVENT
DTSTART:20210127T200000Z
DTEND:20210127T210000Z
X-MICROSOFT-CDO-ALLDAYEVENT:FALSE
SUMMARY:Business Fundamentals - Information Session
DESCRIPTION:Our free information sessions offer an overview of our organization\, an \n\nintroduction to our programs and services\, costs\, upcoming dates\, and more. \n\nThese also offer us an opportunity to get to know you and your goals\, answer \n\nyour questions\, and help you head in the right direction. Attendance at an \n\nInformation Session is required before proceeding to our Business Readiness \n\nWorkshop.
X-ALT-DESC;FMTTYPE=text/html:Our free information sessions offer an overview of our organization\, an&nbsp\;<br />\nintroduction to our programs and services\, costs\, upcoming dates\, and more.&nbsp\;<br />\nThese also offer us an opportunity to get to know you and your goals\, answer&nbsp\;<br />\nyour questions\, and help you head in the right direction. Attendance at an&nbsp\;<br />\nInformation Session is required before proceeding to our Business Readiness&nbsp\;<br />\nWorkshop.
LOCATION:
UID:e.367.9660
SEQUENCE:3
DTSTAMP:20260420T084304Z
URL:http://members.northmasonchamber.com/events/details/business-fundamentals-information-session-9660
END:VEVENT

END:VCALENDAR
