BEGIN:VCALENDAR
VERSION:2.0
PRODID:-//ChamberMaster//Event Calendar 2.0//EN
METHOD:PUBLISH
X-PUBLISHED-TTL:P3D
REFRESH-INTERVAL:P3D
CALSCALE:GREGORIAN
BEGIN:VEVENT
DTSTART:20140125T170000Z
DTEND:20140126T010000Z
X-MICROSOFT-CDO-ALLDAYEVENT:FALSE
SUMMARY:Acrylic Workshop by Beverly Hooks Impressionist
DESCRIPTION:Join Beverly Hooks Impressionist for this acrylic workshop - the first time offered in Belfair! The day starts with a two-hour demonstration\, followed by plenty of time for painting.
X-ALT-DESC;FMTTYPE=text/html:Join Beverly Hooks Impressionist for this acrylic workshop - the first time offered in Belfair! The day starts with a two-hour demonstration\, followed by plenty of time for painting.
LOCATION:Theler Community Center Belfair\, WA visit for directions: www.theler.org
UID:e.367.1023
SEQUENCE:3
DTSTAMP:20260420T101534Z
URL:http://members.northmasonchamber.com/events/details/acrylic-workshop-by-beverly-hooks-impressionist-01-25-2014-1023
END:VEVENT

END:VCALENDAR
